BEGIN:VCALENDAR
VERSION:2.0
PRODID:icalendar-ruby
CALSCALE:GREGORIAN
METHOD:PUBLISH
BEGIN:VEVENT
DTSTAMP:20260420T200402Z
UID:9-424719@bodyof.tithelysetup2.com
DTSTART:20261018T140000Z
DTEND:20261018T153000Z
CLASS:PUBLIC
CREATED:20260420T154112
DESCRIPTION:
LAST-MODIFIED:20260420T154112
LOCATION:
SUMMARY:Sunday Morning Worship Experience 
URL;VALUE=URI:https://bodyof.tithelysetup2.com/events/sunday-morning-worshi
 p-experience--9/2026-10-18
ATTACH;FILENAME=Logo-%26-QR-Code-%288%29.PNG;FMTTYPE=image/png:https://dq5p
 wpg1q8ru0.cloudfront.net/2024/05/05/11/22/28/35c06f36-0034-41d6-a0d6-44b6b
 54de0fc/Logo-%2526-QR-Code-%25288%2529.PNG
END:VEVENT
END:VCALENDAR
