BEGIN:VCALENDAR
VERSION:2.0
PRODID:icalendar-ruby
CALSCALE:GREGORIAN
METHOD:PUBLISH
BEGIN:VEVENT
DTSTAMP:20260420T233343Z
UID:9-425052@bodyof.tithelysetup2.com
DTSTART:20261101T150000Z
DTEND:20261101T163000Z
CLASS:PUBLIC
CREATED:20260420T181709
DESCRIPTION:
LAST-MODIFIED:20260420T181709
LOCATION:
SUMMARY:Sunday Morning Worship Experience 
URL;VALUE=URI:https://bodyof.tithelysetup2.com/events/sunday-morning-worshi
 p-experience--9/2026-11-01
ATTACH;FILENAME=Logo-%26-QR-Code-%288%29.PNG;FMTTYPE=image/png:https://dq5p
 wpg1q8ru0.cloudfront.net/2024/05/05/11/22/28/35c06f36-0034-41d6-a0d6-44b6b
 54de0fc/Logo-%2526-QR-Code-%25288%2529.PNG
END:VEVENT
END:VCALENDAR
