BEGIN:VCALENDAR
VERSION:2.0
PRODID:icalendar-ruby
CALSCALE:GREGORIAN
METHOD:PUBLISH
BEGIN:VEVENT
DTSTAMP:20260420T065202Z
UID:18-423126@bodyof.tithelysetup2.com
DTSTART:20260825T230000Z
DTEND:20260826T000000Z
CLASS:PUBLIC
CREATED:20260419T233407
DESCRIPTION:
LAST-MODIFIED:20260419T233407
LOCATION:via ZOOM @ 7pm
SUMMARY:T.N.T (Tuesday Night Teaching)
URL;VALUE=URI:https://bodyof.tithelysetup2.com/events/t-n-t-tuesday-night-t
 eaching/2026-08-25
ATTACH;FILENAME=bible_crosses-27.jpg;FMTTYPE=image/jpeg:https://dq5pwpg1q8r
 u0.cloudfront.net/2025/07/05/19/52/33/fe554b17-ce03-4224-8672-be09b21f2088
 /bible_crosses-27.jpg
END:VEVENT
END:VCALENDAR
